BEGIN:VCALENDAR
PRODID:-//github.com/ical-org/ical.net//NONSGML ical.net 5.2.1//EN
VERSION:2.0
BEGIN:VTIMEZONE
TZID:Europe/Amsterdam
X-LIC-LOCATION:Europe/Amsterdam
END:VTIMEZONE
BEGIN:VEVENT
DESCRIPTION:Na After the River Festival\, pakken we gewoon door bij 160K!
DTEND;TZID=Local:20260524T050000
DTSTAMP:20260423T104423Z
DTSTART;TZID=Local:20260524T230000
LOCATION:160K
SEQUENCE:0
SUMMARY:AFTER THE RIVER - official after party
UID:689a5db1-d7e1-48ac-b1cc-b6cf3d7593ff
URL:https://www.uitagendarotterdam.nl/agenda/after-the-river-official-after
 -party/
END:VEVENT
END:VCALENDAR
