BEGIN:VCALENDAR
PRODID:-//github.com/ical-org/ical.net//NONSGML ical.net 5.2.1//EN
VERSION:2.0
BEGIN:VTIMEZONE
TZID:Europe/Amsterdam
X-LIC-LOCATION:Europe/Amsterdam
END:VTIMEZONE
BEGIN:VEVENT
DESCRIPTION:In de mainroom staan Bass Btch\, The Groovejet\, Daniel Matthix
 \, MC Sagar en Blush. In de basement nemen Sultan en CDJ-666 het over. ?
 ?
DTEND;TZID=Local:20260424T030000
DTSTAMP:20260424T120927Z
DTSTART;TZID=Local:20260424T210000
LOCATION:FERRY Rotterdam
SEQUENCE:0
SUMMARY:Very Fairy Ferry
UID:cd16c869-a06a-4d96-bf72-e3a5d5db40b4
URL:https://www.uitagendarotterdam.nl/agenda/very-fairy-ferry/
END:VEVENT
END:VCALENDAR
