BEGIN:VCALENDAR
PRODID:-//github.com/ical-org/ical.net//NONSGML ical.net 5.2.1//EN
VERSION:2.0
BEGIN:VTIMEZONE
TZID:Europe/Amsterdam
X-LIC-LOCATION:Europe/Amsterdam
END:VTIMEZONE
BEGIN:VEVENT
DESCRIPTION:Queers "?" Us is terug! In de mainroom staan Aiscream\, Gwen D
 alin\, Faye Ferry\, Gabriell\, Hades en Minny achter de decks\, terwijl Mi
 ka Akela en Alice Olsthoorn de basement overnemen.\n
DTEND;TZID=Local:20260425T030000
DTSTAMP:20260423T090643Z
DTSTART;TZID=Local:20260425T210000
LOCATION:FERRY Rotterdam
SEQUENCE:0
SUMMARY:Queers "?" Us!
UID:11581923-6c12-4233-a49a-568d3eff3ee3
URL:https://www.uitagendarotterdam.nl/agenda/queers-ya-us/
END:VEVENT
END:VCALENDAR
