BEGIN:VCALENDAR
PRODID:-//github.com/ical-org/ical.net//NONSGML ical.net 5.2.1//EN
VERSION:2.0
BEGIN:VTIMEZONE
TZID:Europe/Amsterdam
X-LIC-LOCATION:Europe/Amsterdam
END:VTIMEZONE
BEGIN:VEVENT
DESCRIPTION:Voormalig loverboy Terrance probeert na een gevangenisstraf zij
 n leven weer op te bouwen\, maar wordt geconfronteerd met zijn verleden wa
 nneer de politie hem een gevaarlijke deal aanbiedt.
DTEND;TZID=Local:20260427T220100
DTSTAMP:20260421T035438Z
DTSTART;TZID=Local:20260427T201000
LOCATION:Path? Schouwburgplein
SEQUENCE:0
SUMMARY:Loverboy: Vertrouw Niemand
UID:35de3ad4-a4f5-43f9-9a48-179bbd17225a
URL:https://www.uitagendarotterdam.nl/agenda/loverboy-vertrouw-niemand-1/
END:VEVENT
END:VCALENDAR
