BEGIN:VCALENDAR
PRODID:-//github.com/ical-org/ical.net//NONSGML ical.net 5.2.1//EN
VERSION:2.0
BEGIN:VTIMEZONE
TZID:Europe/Amsterdam
X-LIC-LOCATION:Europe/Amsterdam
END:VTIMEZONE
BEGIN:VEVENT
DESCRIPTION:Natuurkundeleraar Ryland Grace (Academy Award? genomineerde Ry
 an Gosling) wordt lichtjaren van huis wakker op een ruimteschip zonder zic
 h te herinneren wie hij is of hoe hij daar is gekomen.
DTEND;TZID=Local:20260427T210600
DTSTAMP:20260421T033216Z
DTSTART;TZID=Local:20260427T181000
LOCATION:Path? De Kuip
SEQUENCE:0
SUMMARY:Project Hail Mary
UID:fdfa54ef-af74-4f5e-8e92-33d56f7a1a04
URL:https://www.uitagendarotterdam.nl/agenda/project-hail-mary-1/
END:VEVENT
END:VCALENDAR
