BEGIN:VCALENDAR
PRODID:-//github.com/ical-org/ical.net//NONSGML ical.net 5.2.1//EN
VERSION:2.0
BEGIN:VTIMEZONE
TZID:Europe/Amsterdam
X-LIC-LOCATION:Europe/Amsterdam
END:VTIMEZONE
BEGIN:VEVENT
DESCRIPTION:Natuurkundeleraar Ryland Grace (Academy Award? genomineerde Ry
 an Gosling) wordt lichtjaren van huis wakker op een ruimteschip zonder zic
 h te herinneren wie hij is of hoe hij daar is gekomen.
DTEND;TZID=Local:20260425T155600
DTSTAMP:20260421T033220Z
DTSTART;TZID=Local:20260425T130000
LOCATION:Path? De Kuip
SEQUENCE:0
SUMMARY:Project Hail Mary
UID:27a1cf19-2865-48d7-9b62-7f76070944a2
URL:https://www.uitagendarotterdam.nl/agenda/project-hail-mary-1/
END:VEVENT
END:VCALENDAR
