BEGIN:VCALENDAR
PRODID:-//github.com/ical-org/ical.net//NONSGML ical.net 5.2.1//EN
VERSION:2.0
BEGIN:VTIMEZONE
TZID:Europe/Amsterdam
X-LIC-LOCATION:Europe/Amsterdam
END:VTIMEZONE
BEGIN:VEVENT
DESCRIPTION:Een plek om te chillen\, te ontmoeten en je talent te ontwikkel
 en.
DTSTAMP:20260420T194638Z
DTSTART;TZID=Local:20260522T201500
LOCATION:Theater Zuidplein
SEQUENCE:0
SUMMARY:Confro Academy x Theater Zuidplein Open mic
UID:82ef313f-c100-4fa0-b7a7-2833065cd1c4
URL:https://www.uitagendarotterdam.nl/agenda/confro-academy-x-theater-zuidp
 lein-open-mic/
END:VEVENT
END:VCALENDAR
