BEGIN:VCALENDAR
PRODID:-//github.com/ical-org/ical.net//NONSGML ical.net 5.2.1//EN
VERSION:2.0
BEGIN:VTIMEZONE
TZID:Europe/Amsterdam
X-LIC-LOCATION:Europe/Amsterdam
END:VTIMEZONE
BEGIN:VEVENT
DESCRIPTION:Kom naar benefietavond Salam Li Beirut\, waar je Libanese cultu
 ur\, eten en muziek ervaart. Steun het goede doel in een warme\, solidaire
  sfeer. Ontdek unieke producten op de markt en geniet van diverse optreden
 s. Reserveren is gratis.
DTSTAMP:20260420T192251Z
DTSTART;TZID=Local:20260511T170000
LOCATION:Maaspodium
SEQUENCE:0
SUMMARY:Salam li beirut
UID:1be88cbd-8d42-4c43-80a9-cbce680e8780
URL:https://www.uitagendarotterdam.nl/agenda/salam-li-beirut/
END:VEVENT
END:VCALENDAR
