BEGIN:VCALENDAR
PRODID:-//github.com/ical-org/ical.net//NONSGML ical.net 5.2.1//EN
VERSION:2.0
BEGIN:VTIMEZONE
TZID:Europe/Amsterdam
X-LIC-LOCATION:Europe/Amsterdam
END:VTIMEZONE
BEGIN:VEVENT
DESCRIPTION:Reuben Solo keert terug met een ge?pdatete versie van zijn uit
 verkochte show. Een avond vol humor en onverwachte wendingen. Geschikt van
 af 14 jaar.
DTEND;TZID=Local:20260923T213000
DTSTAMP:20260420T193211Z
DTSTART;TZID=Local:20260923T200000
LOCATION:Comedy Club Haug
SEQUENCE:0
SUMMARY:Reuben Solo
UID:23e9b1e6-d2a6-44bc-97e3-22f4324b3eee
URL:https://www.uitagendarotterdam.nl/agenda/reuben-solo/
END:VEVENT
END:VCALENDAR
