BEGIN:VCALENDAR
PRODID:-//github.com/ical-org/ical.net//NONSGML ical.net 5.2.1//EN
VERSION:2.0
BEGIN:VTIMEZONE
TZID:Europe/Amsterdam
X-LIC-LOCATION:Europe/Amsterdam
END:VTIMEZONE
BEGIN:VEVENT
DESCRIPTION:Op deze middag gaat Mohammed Benzakour in gesprek over zijn rom
 an en over vogels en vogelen. Aansluitend zal hij signeren.
DTEND;TZID=Local:20260522T163000
DTSTAMP:20260420T192624Z
DTSTART;TZID=Local:20260522T150000
LOCATION:Boekhandel Donner
SEQUENCE:0
SUMMARY:Mohammed Benzakour over Het lied van Agilouz
UID:ceee10c4-fc2f-4e0d-8af7-3ab1d2f9aff4
URL:https://www.uitagendarotterdam.nl/agenda/mohammed-benzakour-over-het-li
 ed-van-agilouz/
END:VEVENT
END:VCALENDAR
