BEGIN:VCALENDAR
PRODID:-//github.com/ical-org/ical.net//NONSGML ical.net 5.2.1//EN
VERSION:2.0
BEGIN:VTIMEZONE
TZID:Europe/Amsterdam
X-LIC-LOCATION:Europe/Amsterdam
END:VTIMEZONE
BEGIN:VEVENT
DESCRIPTION:Ontdek 2 unieke films van het IFFR: het experimentele bubble bu
 bble van Vincent Boy Kars & Rutger Nijkamp en de zintuiglijke ervaring The
  Liminal Zone van Rutger Wolfson. De makers vertellen je persoonlijk over 
 hun werk.
DTEND;TZID=Local:20260507T233000
DTSTAMP:20260420T192239Z
DTSTART;TZID=Local:20260507T201500
LOCATION:Worm
SEQUENCE:0
SUMMARY:OFF SCREEN
UID:91b76641-39f8-4162-96cd-bd240b56c66a
URL:https://www.uitagendarotterdam.nl/agenda/off-screen/
END:VEVENT
END:VCALENDAR
