BEGIN:VCALENDAR
PRODID:-//github.com/ical-org/ical.net//NONSGML ical.net 5.2.1//EN
VERSION:2.0
BEGIN:VTIMEZONE
TZID:Europe/Amsterdam
X-LIC-LOCATION:Europe/Amsterdam
END:VTIMEZONE
BEGIN:VEVENT
DESCRIPTION:Vier 1 jaar Baile Da Galecta mee in Rotterdam! Geniet van authe
 ntieke Braziliaanse funk met supersterren en een unieke sfeer. Mis het nie
 t!
DTEND;TZID=Local:20260509T030000
DTSTAMP:20260420T190928Z
DTSTART;TZID=Local:20260509T220000
LOCATION:Mono
SEQUENCE:0
SUMMARY:Baile Da Galecta 1YR Anniversary
UID:7d3f3560-b087-4bb0-a096-be01eef7d211
URL:https://www.uitagendarotterdam.nl/agenda/baile-da-galecta-1yr-anniversa
 ry/
END:VEVENT
END:VCALENDAR
