BEGIN:VCALENDAR
PRODID:-//github.com/ical-org/ical.net//NONSGML ical.net 5.2.1//EN
VERSION:2.0
BEGIN:VTIMEZONE
TZID:Europe/Amsterdam
X-LIC-LOCATION:Europe/Amsterdam
END:VTIMEZONE
BEGIN:VEVENT
DESCRIPTION:Celebrate Kingsday at Stalles with an outdoor bar\, DJs\, karao
 ke\, and a full day of music and dancing.
DTEND;TZID=Local:20260427T010000
DTSTAMP:20260420T192251Z
DTSTART;TZID=Local:20260427T130000
LOCATION:Caf? Stalles
SEQUENCE:0
SUMMARY:Free Kingsday @ Stalles!!!
UID:7f037b4a-b36a-4673-b245-f249b0eb0e3e
URL:https://www.uitagendarotterdam.nl/agenda/free-kingsday-stalles/
END:VEVENT
END:VCALENDAR
