BEGIN:VCALENDAR
PRODID:-//github.com/ical-org/ical.net//NONSGML ical.net 5.2.1//EN
VERSION:2.0
BEGIN:VTIMEZONE
TZID:Europe/Amsterdam
X-LIC-LOCATION:Europe/Amsterdam
END:VTIMEZONE
BEGIN:VEVENT
DESCRIPTION:Op vrijdag 5 juni is het Dead Duck Day. Nog eenmaal zal Kees Mo
 eliker de korte openluchtceremonie bij Het Natuurhistorisch presenteren\, 
 30 jaar na de eerste herdenking die in 1996 plaatsvond.
DTSTAMP:20260420T192115Z
DTSTART;TZID=Local:20260505T175500
LOCATION:Natuurhistorisch Museum Rotterdam
SEQUENCE:0
SUMMARY:Dead Duck Day- voor de laatste keer bij het museum - 5 juni 2026
UID:b5db2966-46a2-4e9a-ab47-06a3984e4d0b
URL:https://www.uitagendarotterdam.nl/agenda/dead-duck-day-voor-de-laatste-
 keer-bij-het-museum-5-juni-2026/
END:VEVENT
END:VCALENDAR
