BEGIN:VCALENDAR
PRODID:-//github.com/ical-org/ical.net//NONSGML ical.net 5.2.1//EN
VERSION:2.0
BEGIN:VTIMEZONE
TZID:Europe/Amsterdam
X-LIC-LOCATION:Europe/Amsterdam
END:VTIMEZONE
BEGIN:VEVENT
DESCRIPTION:Artem Chapeye wordt ge?nterviewd door Lisa Weeda
DTEND;TZID=Local:20260508T170000
DTSTAMP:20260420T192433Z
DTSTART;TZID=Local:20260508T153000
LOCATION:Boekhandel Donner
SEQUENCE:0
SUMMARY:Artem Chapeye over Gewone mensen dragen geen machinegeweren
UID:28dda733-9086-4f5f-9b44-c6312dffb333
URL:https://www.uitagendarotterdam.nl/agenda/artem-chapeye-over-gewone-mens
 en-dragen-geen-machinegeweren/
END:VEVENT
END:VCALENDAR
