BEGIN:VCALENDAR
PRODID:-//github.com/ical-org/ical.net//NONSGML ical.net 5.2.1//EN
VERSION:2.0
BEGIN:VTIMEZONE
TZID:Europe/Amsterdam
X-LIC-LOCATION:Europe/Amsterdam
END:VTIMEZONE
BEGIN:VEVENT
DESCRIPTION:TEMBO by Mono lanceert met afro house\, tech\, en amapiano. Erv
 aar zorgvuldig geselecteerde klanken en beats van diverse artiesten. Kom l
 angs en geniet van de muziek.
DTEND;TZID=Local:20260501T030000
DTSTAMP:20260420T190330Z
DTSTART;TZID=Local:20260501T220000
LOCATION:Mono
SEQUENCE:0
SUMMARY:TEMBO by mono
UID:e54a4d9c-5b7f-4868-aed6-171eb70a2e99
URL:https://www.uitagendarotterdam.nl/agenda/tembo-by-mono/
END:VEVENT
END:VCALENDAR
