BEGIN:VCALENDAR
PRODID:-//github.com/ical-org/ical.net//NONSGML ical.net 5.2.1//EN
VERSION:2.0
BEGIN:VTIMEZONE
TZID:Europe/Amsterdam
X-LIC-LOCATION:Europe/Amsterdam
END:VTIMEZONE
BEGIN:VEVENT
DESCRIPTION:Dompel je onder in avant-gardistische en elektroakoestische imp
 rovisatie bij Kalponik Rekha. Beleef een avond vol kunst met artiesten uit
  Bangladesh en Cambodja\, waar onverwachte systemen en geluiden samenkomen
 .
DTEND;TZID=Local:20260516T233000
DTSTAMP:20260420T192514Z
DTSTART;TZID=Local:20260516T203000
LOCATION:Worm
SEQUENCE:0
SUMMARY:Kalponik Rekha with Neo Geodesia & Sidhartta Talukdar
UID:ccd1c373-583f-4402-8e29-7696ce7c0028
URL:https://www.uitagendarotterdam.nl/agenda/kalponik-rekha-with-neo-geodes
 ia-sidhartta-talukdar/
END:VEVENT
END:VCALENDAR
