BEGIN:VCALENDAR
PRODID:-//github.com/ical-org/ical.net//NONSGML ical.net 5.2.1//EN
VERSION:2.0
BEGIN:VTIMEZONE
TZID:Europe/Amsterdam
X-LIC-LOCATION:Europe/Amsterdam
END:VTIMEZONE
BEGIN:VEVENT
DESCRIPTION:Een nieuwe likkebaardend lekkere muzikale cabaretshow
DTEND;TZID=Local:20260612T223000
DTSTAMP:20260420T192156Z
DTSTART;TZID=Local:20260612T203000
LOCATION:Kantine Walhalla
SEQUENCE:0
SUMMARY:Versnaperingen! - De Tunes
UID:403251ac-88f6-42e6-b38d-6452bf748aa6
URL:https://www.uitagendarotterdam.nl/agenda/versnaperingen-de-tunes-3/
END:VEVENT
END:VCALENDAR
