BEGIN:VCALENDAR
PRODID:-//github.com/ical-org/ical.net//NONSGML ical.net 5.2.1//EN
VERSION:2.0
BEGIN:VTIMEZONE
TZID:Europe/Amsterdam
X-LIC-LOCATION:Europe/Amsterdam
END:VTIMEZONE
BEGIN:VEVENT
DESCRIPTION:Een nieuwe likkebaardend lekkere muzikale cabaretshow
DTEND;TZID=Local:20260612T174500
DTSTAMP:20260420T192330Z
DTSTART;TZID=Local:20260612T140000
LOCATION:Kantine Walhalla
SEQUENCE:0
SUMMARY:Versnaperingen! - De Tunes
UID:a8a6288f-c79e-44f6-9e60-f28e4fd1ad4b
URL:https://www.uitagendarotterdam.nl/agenda/versnaperingen-de-tunes-3/
END:VEVENT
END:VCALENDAR
