BEGIN:VCALENDAR
PRODID:-//github.com/ical-org/ical.net//NONSGML ical.net 5.2.1//EN
VERSION:2.0
BEGIN:VTIMEZONE
TZID:Europe/Amsterdam
X-LIC-LOCATION:Europe/Amsterdam
END:VTIMEZONE
BEGIN:VEVENT
DESCRIPTION:Een nieuwe likkebaardend lekkere muzikale cabaretshow
DTEND;TZID=Local:20260509T224500
DTSTAMP:20260420T192433Z
DTSTART;TZID=Local:20260509T203000
LOCATION:Kantine Walhalla
SEQUENCE:0
SUMMARY:Versnaperingen! - De Tunes
UID:f72aa6e6-3ee3-4e64-b21a-a64f34df79be
URL:https://www.uitagendarotterdam.nl/agenda/versnaperingen-de-tunes-3/
END:VEVENT
END:VCALENDAR
