BEGIN:VCALENDAR
PRODID:-//github.com/ical-org/ical.net//NONSGML ical.net 5.2.1//EN
VERSION:2.0
BEGIN:VTIMEZONE
TZID:Europe/Amsterdam
X-LIC-LOCATION:Europe/Amsterdam
END:VTIMEZONE
BEGIN:VEVENT
DESCRIPTION:Een nieuwe likkebaardend lekkere muzikale cabaretshow
DTEND;TZID=Local:20260509T174500
DTSTAMP:20260420T192252Z
DTSTART;TZID=Local:20260509T140000
LOCATION:Kantine Walhalla
SEQUENCE:0
SUMMARY:Versnaperingen! - De Tunes
UID:fe3e748b-f1fe-4606-b48b-68cdcc0d33a5
URL:https://www.uitagendarotterdam.nl/agenda/versnaperingen-de-tunes-3/
END:VEVENT
END:VCALENDAR
