BEGIN:VCALENDAR
PRODID:-//github.com/ical-org/ical.net//NONSGML ical.net 5.2.1//EN
VERSION:2.0
BEGIN:VTIMEZONE
TZID:Europe/Amsterdam
X-LIC-LOCATION:Europe/Amsterdam
END:VTIMEZONE
BEGIN:VEVENT
DESCRIPTION:Verkopen of verbranden?
DTEND;TZID=Local:20260516T210000
DTSTAMP:20260420T192331Z
DTSTART;TZID=Local:20260516T193000
LOCATION:Theater Mooi Weer
SEQUENCE:0
SUMMARY:Nachtland
UID:6fc1e70f-738c-42dd-8b73-002c0a259f32
URL:https://www.uitagendarotterdam.nl/agenda/nachtland-3/
END:VEVENT
END:VCALENDAR
