BEGIN:VCALENDAR
PRODID:-//github.com/ical-org/ical.net//NONSGML ical.net 5.2.1//EN
VERSION:2.0
BEGIN:VTIMEZONE
TZID:Europe/Amsterdam
X-LIC-LOCATION:Europe/Amsterdam
END:VTIMEZONE
BEGIN:VEVENT
DESCRIPTION:Verkopen of verbranden?
DTEND;TZID=Local:20260514T210000
DTSTAMP:20260420T192616Z
DTSTART;TZID=Local:20260514T193000
LOCATION:Theater Mooi Weer
SEQUENCE:0
SUMMARY:Nachtland
UID:7866663d-b0ea-45e1-9359-7ec79ea7da49
URL:https://www.uitagendarotterdam.nl/agenda/nachtland-3/
END:VEVENT
END:VCALENDAR
