BEGIN:VCALENDAR
PRODID:-//github.com/ical-org/ical.net//NONSGML ical.net 5.2.1//EN
VERSION:2.0
BEGIN:VTIMEZONE
TZID:Europe/Amsterdam
X-LIC-LOCATION:Europe/Amsterdam
END:VTIMEZONE
BEGIN:VEVENT
DESCRIPTION:Verkopen of verbranden?
DTEND;TZID=Local:20260507T210000
DTSTAMP:20260420T192434Z
DTSTART;TZID=Local:20260507T193000
LOCATION:Theater Mooi Weer
SEQUENCE:0
SUMMARY:Nachtland
UID:8cbfd328-6aa1-4e0a-a726-e5f863c8a0e6
URL:https://www.uitagendarotterdam.nl/agenda/nachtland-3/
END:VEVENT
END:VCALENDAR
