BEGIN:VCALENDAR
PRODID:-//github.com/ical-org/ical.net//NONSGML ical.net 5.2.1//EN
VERSION:2.0
BEGIN:VTIMEZONE
TZID:Europe/Amsterdam
X-LIC-LOCATION:Europe/Amsterdam
END:VTIMEZONE
BEGIN:VEVENT
DESCRIPTION:Verkopen of verbranden?
DTEND;TZID=Local:20260501T210000
DTSTAMP:20260420T192238Z
DTSTART;TZID=Local:20260501T193000
LOCATION:Theater Mooi Weer
SEQUENCE:0
SUMMARY:Nachtland
UID:32e6e088-4b95-43d4-9883-55c58913e0ce
URL:https://www.uitagendarotterdam.nl/agenda/nachtland-3/
END:VEVENT
END:VCALENDAR
