BEGIN:VCALENDAR
PRODID:-//github.com/ical-org/ical.net//NONSGML ical.net 5.2.1//EN
VERSION:2.0
BEGIN:VTIMEZONE
TZID:Europe/Amsterdam
X-LIC-LOCATION:Europe/Amsterdam
END:VTIMEZONE
BEGIN:VEVENT
DESCRIPTION:Verkopen of verbranden?
DTEND;TZID=Local:20260425T210000
DTSTAMP:20260420T192624Z
DTSTART;TZID=Local:20260425T193000
LOCATION:Theater Mooi Weer
SEQUENCE:0
SUMMARY:Nachtland
UID:0d51d82b-c16f-4786-acd7-8cc4b1d9dac3
URL:https://www.uitagendarotterdam.nl/agenda/nachtland-3/
END:VEVENT
END:VCALENDAR
