BEGIN:VCALENDAR
PRODID:-//github.com/ical-org/ical.net//NONSGML ical.net 5.2.1//EN
VERSION:2.0
BEGIN:VTIMEZONE
TZID:Europe/Amsterdam
X-LIC-LOCATION:Europe/Amsterdam
END:VTIMEZONE
BEGIN:VEVENT
DESCRIPTION:Beleef een onvergetelijke avond bij TOFFLER met Cher Semain en 
 zijn vrienden. Geniet van diverse DJ-sets in een dynamische clubsfeer.
DTEND;TZID=Local:20260620T050000
DTSTAMP:20260420T192332Z
DTSTART;TZID=Local:20260620T230000
LOCATION:Toffler
SEQUENCE:0
SUMMARY:TOFFLER Presents Cher Semain and friends
UID:ada9b8cf-f42b-473c-9680-42a7cbea6d25
URL:https://www.uitagendarotterdam.nl/agenda/toffler-presents-cher-semain-a
 nd-friends/
END:VEVENT
END:VCALENDAR
