BEGIN:VCALENDAR
PRODID:-//github.com/ical-org/ical.net//NONSGML ical.net 5.2.1//EN
VERSION:2.0
BEGIN:VTIMEZONE
TZID:Europe/Amsterdam
X-LIC-LOCATION:Europe/Amsterdam
END:VTIMEZONE
BEGIN:VEVENT
DESCRIPTION:Dansliefhebbers opgelet: TOFFLER presenteert een dynamisch fees
 t met DIVASI en vele andere getalenteerde DJ's. Verwacht een avond vol ene
 rgie en beats in Rotterdam.
DTSTAMP:20260420T192413Z
DTSTART;TZID=Local:20260612T000000
LOCATION:Toffler
SEQUENCE:0
SUMMARY:TOFFLER Presents DIVASI and friends
UID:27fc9166-eeab-4078-8df2-974fcfe1fa8b
URL:https://www.uitagendarotterdam.nl/agenda/toffler-presents-divasi-and-fr
 iends/
END:VEVENT
END:VCALENDAR
