BEGIN:VCALENDAR
PRODID:-//github.com/ical-org/ical.net//NONSGML ical.net 5.2.1//EN
VERSION:2.0
BEGIN:VTIMEZONE
TZID:Europe/Amsterdam
X-LIC-LOCATION:Europe/Amsterdam
END:VTIMEZONE
BEGIN:VEVENT
DESCRIPTION:Zaterdag 7 november komt MEROL naar Annabel Rotterdam voor een 
 explosieve liveshow. Verwacht haar nieuwe album 'Leve de Feeks' en iconisc
 he hits.
DTSTAMP:20260420T192413Z
DTSTART;TZID=Local:20261107T200000
LOCATION:Annabel
SEQUENCE:0
SUMMARY:Merol - Poppodium Annabel
UID:8aed3fcb-b14b-4f6c-ac23-8579919c3b4b
URL:https://www.uitagendarotterdam.nl/agenda/merol-poppodium-annabel/
END:VEVENT
END:VCALENDAR
