BEGIN:VCALENDAR
PRODID:-//github.com/ical-org/ical.net//NONSGML ical.net 5.2.1//EN
VERSION:2.0
BEGIN:VTIMEZONE
TZID:Europe/Amsterdam
X-LIC-LOCATION:Europe/Amsterdam
END:VTIMEZONE
BEGIN:VEVENT
DESCRIPTION:Een avond vol Kaapverdiaanse muziek met Grace Evora en Beto Dia
 s live in Rotterdam. Inclusief DJ's en afterparty.
DTSTAMP:20260420T192331Z
DTSTART;TZID=Local:20260606T190000
LOCATION:Annabel
SEQUENCE:0
SUMMARY:Grace Evora X Beto Dias
UID:b61da3da-6eb8-42a4-a2fa-ee5e8efec402
URL:https://www.uitagendarotterdam.nl/agenda/grace-evora-x-beto-dias/
END:VEVENT
END:VCALENDAR
