BEGIN:VCALENDAR
PRODID:-//github.com/ical-org/ical.net//NONSGML ical.net 5.2.1//EN
VERSION:2.0
BEGIN:VTIMEZONE
TZID:Europe/Amsterdam
X-LIC-LOCATION:Europe/Amsterdam
END:VTIMEZONE
BEGIN:VEVENT
DESCRIPTION:MC James Vaughan\, Maeva Dolle\, Emily Panic\, Akos Erdosi\, Ja
 cob Stewart (os) and Rogier Bak
DTEND;TZID=Local:20260523T233000
DTSTAMP:20260420T192434Z
DTSTART;TZID=Local:20260523T213000
LOCATION:Comedy Club Haug
SEQUENCE:0
SUMMARY:Chuckle-Up! in English
UID:00131a4f-1470-4cee-abad-ba9887d71a3e
URL:https://www.uitagendarotterdam.nl/agenda/chuckle-up-in-english-5/
END:VEVENT
END:VCALENDAR
