BEGIN:VCALENDAR
PRODID:-//github.com/ical-org/ical.net//NONSGML ical.net 5.2.1//EN
VERSION:2.0
BEGIN:VTIMEZONE
TZID:Europe/Amsterdam
X-LIC-LOCATION:Europe/Amsterdam
END:VTIMEZONE
BEGIN:VEVENT
DESCRIPTION:Verkopen of verbranden?
DTEND;TZID=Local:20260424T210000
DTSTAMP:20260420T192036Z
DTSTART;TZID=Local:20260424T193000
LOCATION:Theater Mooi Weer
SEQUENCE:0
SUMMARY:Nachtland
UID:68715958-3685-480c-93ba-882151ff0a5c
URL:https://www.uitagendarotterdam.nl/agenda/nachtland-2/
END:VEVENT
END:VCALENDAR
