BEGIN:VCALENDAR
PRODID:-//github.com/ical-org/ical.net//NONSGML ical.net 5.2.1//EN
VERSION:2.0
BEGIN:VTIMEZONE
TZID:Europe/Amsterdam
X-LIC-LOCATION:Europe/Amsterdam
END:VTIMEZONE
BEGIN:VEVENT
DESCRIPTION:MC Vincent Geers\, Sjoerd Janssen\, Marie Koet\, Daan van der H
 oeven\, Emma van Puffelen (OS) en Stephen Bell
DTEND;TZID=Local:20260530T201500
DTSTAMP:20260420T171109Z
DTSTART;TZID=Local:20260530T183000
LOCATION:Comedy Club Haug
SEQUENCE:0
SUMMARY:Best of Stand-Up Early Show
UID:66bc3bdc-1e2d-4106-b5a7-9dacc361b554
URL:https://www.uitagendarotterdam.nl/agenda/best-of-stand-up-early-show-4/
END:VEVENT
END:VCALENDAR
