BEGIN:VCALENDAR
PRODID:-//github.com/ical-org/ical.net//NONSGML ical.net 5.2.1//EN
VERSION:2.0
BEGIN:VTIMEZONE
TZID:Europe/Amsterdam
X-LIC-LOCATION:Europe/Amsterdam
END:VTIMEZONE
BEGIN:VEVENT
DESCRIPTION:MC Vincent Geers\, Sjoerd Janssen\, Marie Koet\, Daan van der H
 oeven\, Emma van Puffelen (OS) en Stephen Bell
DTEND;TZID=Local:20260425T201500
DTSTAMP:20260420T171448Z
DTSTART;TZID=Local:20260425T183000
LOCATION:Comedy Club Haug
SEQUENCE:0
SUMMARY:Best of Stand-Up Early Show
UID:e43ebee4-44b4-467c-b9a1-1eeb270685e3
URL:https://www.uitagendarotterdam.nl/agenda/best-of-stand-up-early-show-4/
END:VEVENT
END:VCALENDAR
