BEGIN:VCALENDAR
PRODID:-//github.com/ical-org/ical.net//NONSGML ical.net 5.2.1//EN
VERSION:2.0
BEGIN:VTIMEZONE
TZID:Europe/Amsterdam
X-LIC-LOCATION:Europe/Amsterdam
END:VTIMEZONE
BEGIN:VEVENT
DESCRIPTION:MC Sjoerd Janssen\, Vincent Geers\, Marie Koet\, Daan van der H
 oeven\, Emma van Puffelen (OS) en Stephen Bell
DTEND;TZID=Local:20260516T230000
DTSTAMP:20260420T171454Z
DTSTART;TZID=Local:20260516T210000
LOCATION:Comedy Club Haug
SEQUENCE:0
SUMMARY:Best of Stand-Up
UID:de59cbd4-2352-4198-9dc7-83506d7ec706
URL:https://www.uitagendarotterdam.nl/agenda/best-of-stand-up-8/
END:VEVENT
END:VCALENDAR
