BEGIN:VCALENDAR
PRODID:-//github.com/ical-org/ical.net//NONSGML ical.net 5.2.1//EN
VERSION:2.0
BEGIN:VTIMEZONE
TZID:Europe/Amsterdam
X-LIC-LOCATION:Europe/Amsterdam
END:VTIMEZONE
BEGIN:VEVENT
DESCRIPTION:MC Sjoerd Janssen\, Vincent Geers\, Marie Koet\, Daan van der H
 oeven\, Emma van Puffelen (OS) en Stephen Bell
DTEND;TZID=Local:20260425T230000
DTSTAMP:20260420T171257Z
DTSTART;TZID=Local:20260425T210000
LOCATION:Comedy Club Haug
SEQUENCE:0
SUMMARY:Best of Stand-Up
UID:6f7ea5fa-8745-473d-9faa-de20ae6ca64d
URL:https://www.uitagendarotterdam.nl/agenda/best-of-stand-up-8/
END:VEVENT
END:VCALENDAR
