BEGIN:VCALENDAR
PRODID:-//github.com/ical-org/ical.net//NONSGML ical.net 5.2.1//EN
VERSION:2.0
BEGIN:VTIMEZONE
TZID:Europe/Amsterdam
X-LIC-LOCATION:Europe/Amsterdam
END:VTIMEZONE
BEGIN:VEVENT
DESCRIPTION:Vier Koningsdag tussen de botanische kroonjuwelen van Trompenbu
 rg. Ontdek bijzondere bomen en planten met een uniek verhaal of zeldzame h
 erkomst. Een levende collectie van het mooiste groen wacht op jou.
DTEND;TZID=Local:20260426T143000
DTSTAMP:20260420T171426Z
DTSTART;TZID=Local:20260426T130000
LOCATION:Trompenburg Tuinen & Arboretum
SEQUENCE:0
SUMMARY:Botanische Kroonjuwelen - groengidswandeling
UID:a8e8e5ee-3f23-4c2b-bd1c-6340813b3109
URL:https://www.uitagendarotterdam.nl/agenda/botanische-kroonjuwelen-groeng
 idswandeling/
END:VEVENT
END:VCALENDAR
