BEGIN:VCALENDAR
PRODID:-//github.com/ical-org/ical.net//NONSGML ical.net 5.2.1//EN
VERSION:2.0
BEGIN:VTIMEZONE
TZID:Europe/Amsterdam
X-LIC-LOCATION:Europe/Amsterdam
END:VTIMEZONE
BEGIN:VEVENT
DESCRIPTION:Dompel jezelf onder in de rust van de natuur tijdens de Botanic
 al Book Club x Sakura Stories. Lees samen in de botanische tuin van Trompe
 nburg\, omringd door bomen en planten. Ontdek Japanse literatuur en geniet
  van matcha en huisgemaakte Japanse koekjes.
DTEND;TZID=Local:20260705T153000
DTSTAMP:20260420T171249Z
DTSTART;TZID=Local:20260705T140000
LOCATION:Trompenburg Tuinen & Arboretum
SEQUENCE:0
SUMMARY:Botanical Book Club x Sakura Stories
UID:c0aefa94-5445-45ed-b4cc-b78e6b1eee23
URL:https://www.uitagendarotterdam.nl/agenda/botanical-book-club-x-sakura-s
 tories/
END:VEVENT
END:VCALENDAR
