BEGIN:VCALENDAR
PRODID:-//github.com/ical-org/ical.net//NONSGML ical.net 5.2.1//EN
VERSION:2.0
BEGIN:VTIMEZONE
TZID:Europe/Amsterdam
X-LIC-LOCATION:Europe/Amsterdam
END:VTIMEZONE
BEGIN:VEVENT
DESCRIPTION:In het jeugdtheaterstuk 'Getekend' ontdek je de geschiedenis va
 n het Nederlandse slavernijverleden aan de hand van persoonlijke verhalen.
  De voorstelling verbindt dit verleden met het heden en nodigt je uit na t
 e denken over onderwerpen als vrijheid en ongelijkheid. Geschikt voor publ
 iek vanaf 12 jaar.
DTEND;TZID=Local:20260629T200000
DTSTAMP:20260420T172050Z
DTSTART;TZID=Local:20260629T183000
LOCATION:Jeugdtheater Hofplein
SEQUENCE:0
SUMMARY:Keti Koti: Getekend
UID:cc332da4-8a6e-44ee-a2ca-80b710632e99
URL:https://www.uitagendarotterdam.nl/agenda/keti-koti-getekend/
END:VEVENT
END:VCALENDAR
