BEGIN:VCALENDAR
PRODID:-//github.com/ical-org/ical.net//NONSGML ical.net 5.2.1//EN
VERSION:2.0
BEGIN:VTIMEZONE
TZID:Europe/Amsterdam
X-LIC-LOCATION:Europe/Amsterdam
END:VTIMEZONE
BEGIN:VEVENT
DESCRIPTION:Ervaar een intieme avond vol groove en soul met Flo Naegeli in 
 BIRD Rotterdam. Deze multi-instrumentalist combineert indie soul en pop me
 t invloeden van Stevie Wonder.
DTEND;TZID=Local:20260430T220000
DTSTAMP:20260421T205516Z
DTSTART;TZID=Local:20260430T203000
LOCATION:BIRD Rotterdam
SEQUENCE:0
SUMMARY:Flo Naegeli
UID:1bfa2382-c73d-43e0-93d5-eb14bf397db9
URL:https://www.uitagendarotterdam.nl/agenda/flo-naegeli/
END:VEVENT
END:VCALENDAR
