BEGIN:VCALENDAR
PRODID:-//github.com/ical-org/ical.net//NONSGML ical.net 5.2.1//EN
VERSION:2.0
BEGIN:VTIMEZONE
TZID:Europe/Amsterdam
X-LIC-LOCATION:Europe/Amsterdam
END:VTIMEZONE
BEGIN:VEVENT
DESCRIPTION:Ervaar Rico live bij BIRD Rotterdam. De rapper\, bekend van Opg
 ezwolle\, brengt zijn nieuwste album ten gehore\, vol scherpe teksten en p
 ersoonlijke verhalen.
DTEND;TZID=Local:20260516T220000
DTSTAMP:20260420T171755Z
DTSTART;TZID=Local:20260516T203000
LOCATION:BIRD Rotterdam
SEQUENCE:0
SUMMARY:Rico (Support: ZWARTEWATER)
UID:4b69ee66-671b-48e9-8bed-b7fbef33cf77
URL:https://www.uitagendarotterdam.nl/agenda/rico-support-zwartewater/
END:VEVENT
END:VCALENDAR
