BEGIN:VCALENDAR
PRODID:-//github.com/ical-org/ical.net//NONSGML ical.net 5.2.1//EN
VERSION:2.0
BEGIN:VTIMEZONE
TZID:Europe/Amsterdam
X-LIC-LOCATION:Europe/Amsterdam
END:VTIMEZONE
BEGIN:VEVENT
DESCRIPTION:Shaz Memon (os) and more!
DTEND;TZID=Local:20260530T233000
DTSTAMP:20260420T172051Z
DTSTART;TZID=Local:20260530T213000
LOCATION:Comedy Club Haug
SEQUENCE:0
SUMMARY:Chuckle-Up! in English
UID:a8853640-1e6b-4127-aaa9-b3ddc78c9905
URL:https://www.uitagendarotterdam.nl/agenda/chuckle-up-in-english-4/
END:VEVENT
END:VCALENDAR
