BEGIN:VCALENDAR
PRODID:-//github.com/ical-org/ical.net//NONSGML ical.net 5.2.1//EN
VERSION:2.0
BEGIN:VTIMEZONE
TZID:Europe/Amsterdam
X-LIC-LOCATION:Europe/Amsterdam
END:VTIMEZONE
BEGIN:VEVENT
DESCRIPTION:Shaz Memon (os) and more!
DTEND;TZID=Local:20260529T233000
DTSTAMP:20260420T171637Z
DTSTART;TZID=Local:20260529T213000
LOCATION:Comedy Club Haug
SEQUENCE:0
SUMMARY:Chuckle-Up! in English
UID:3ad0ebbc-5df8-4a57-bb90-b7f37d65c90e
URL:https://www.uitagendarotterdam.nl/agenda/chuckle-up-in-english-4/
END:VEVENT
END:VCALENDAR
