BEGIN:VCALENDAR
PRODID:-//github.com/ical-org/ical.net//NONSGML ical.net 5.2.1//EN
VERSION:2.0
BEGIN:VTIMEZONE
TZID:Europe/Amsterdam
X-LIC-LOCATION:Europe/Amsterdam
END:VTIMEZONE
BEGIN:VEVENT
DESCRIPTION:Shaz Memon (os) and more!
DTEND;TZID=Local:20260508T233000
DTSTAMP:20260420T171614Z
DTSTART;TZID=Local:20260508T213000
LOCATION:Comedy Club Haug
SEQUENCE:0
SUMMARY:Chuckle-Up! in English
UID:4962721f-6eb5-4e70-9654-0bdca34d24cf
URL:https://www.uitagendarotterdam.nl/agenda/chuckle-up-in-english-4/
END:VEVENT
END:VCALENDAR
