BEGIN:VCALENDAR
PRODID:-//github.com/ical-org/ical.net//NONSGML ical.net 5.2.1//EN
VERSION:2.0
BEGIN:VTIMEZONE
TZID:Europe/Amsterdam
X-LIC-LOCATION:Europe/Amsterdam
END:VTIMEZONE
BEGIN:VEVENT
DESCRIPTION:Verkopen of verbranden?
DTEND;TZID=Local:20260423T210000
DTSTAMP:20260420T171427Z
DTSTART;TZID=Local:20260423T193000
LOCATION:Theater Mooi Weer
SEQUENCE:0
SUMMARY:Nachtland
UID:d045051b-5de9-4b63-92a5-b43533839449
URL:https://www.uitagendarotterdam.nl/agenda/nachtland-1/
END:VEVENT
END:VCALENDAR
