BEGIN:VCALENDAR
PRODID:-//github.com/ical-org/ical.net//NONSGML ical.net 5.2.1//EN
VERSION:2.0
BEGIN:VTIMEZONE
TZID:Europe/Amsterdam
X-LIC-LOCATION:Europe/Amsterdam
END:VTIMEZONE
BEGIN:VEVENT
DESCRIPTION:Op zaterdag 24 oktober 2026 vindt Megarave plaats in Maassilo i
 n Rotterdam. Dit evenement staat bekend om zijn hardcore energie en brengt
  grote namen uit de scene samen. Verwacht een intense ervaring met live op
 tredens en DJ-sets.
DTEND;TZID=Local:20261024T220000
DTSTAMP:20260420T171616Z
DTSTART;TZID=Local:20261024T130000
LOCATION:Maassilo
SEQUENCE:0
SUMMARY:Megarave
UID:7079ac4b-1ea1-4692-bbec-995e1b36e25b
URL:https://www.uitagendarotterdam.nl/agenda/megarave/
END:VEVENT
END:VCALENDAR
