BEGIN:VCALENDAR
PRODID:-//github.com/ical-org/ical.net//NONSGML ical.net 5.2.1//EN
VERSION:2.0
BEGIN:VTIMEZONE
TZID:Europe/Amsterdam
X-LIC-LOCATION:Europe/Amsterdam
END:VTIMEZONE
BEGIN:VEVENT
DESCRIPTION:5 restaurants\, ??n route: ontdek verrassende oesters en perf
 ect bijpassende drankjes.
DTEND;TZID=Local:20260426T160000
DTSTAMP:20260420T171615Z
DTSTART;TZID=Local:20260426T140000
LOCATION:Diverse locaties Rotterdam
SEQUENCE:0
SUMMARY:Oestour Rotterdam
UID:c8a4a7e5-25a1-4de9-85b7-44b6568cc53e
URL:https://www.uitagendarotterdam.nl/agenda/oestour-rotterdam/
END:VEVENT
END:VCALENDAR
