BEGIN:VCALENDAR
PRODID:-//github.com/ical-org/ical.net//NONSGML ical.net 5.2.1//EN
VERSION:2.0
BEGIN:VTIMEZONE
TZID:Europe/Amsterdam
X-LIC-LOCATION:Europe/Amsterdam
END:VTIMEZONE
BEGIN:VEVENT
DESCRIPTION:5 restaurants\, ??n route: ontdek verrassende oesters en perf
 ect bijpassende drankjes.
DTEND;TZID=Local:20260425T160000
DTSTAMP:20260420T171449Z
DTSTART;TZID=Local:20260425T140000
LOCATION:Diverse locaties Rotterdam
SEQUENCE:0
SUMMARY:Oestour Rotterdam
UID:4ec46b7e-c480-4a4c-a5a4-72a6f0f9e44c
URL:https://www.uitagendarotterdam.nl/agenda/oestour-rotterdam/
END:VEVENT
END:VCALENDAR
