BEGIN:VCALENDAR
PRODID:-//github.com/ical-org/ical.net//NONSGML ical.net 5.2.1//EN
VERSION:2.0
BEGIN:VTIMEZONE
TZID:Europe/Amsterdam
X-LIC-LOCATION:Europe/Amsterdam
END:VTIMEZONE
BEGIN:VEVENT
DESCRIPTION:NEXT GENZ is een unieke game- en performance avond voor en door
  jongeren. Je beleeft optredens van JMR Vibes\, BVAM\, BFL Quatro en Jahma
 14. Kom verkleed in jouw beste jaren 90 outfit en maak kans op mooie prijz
 en. Mis dit toffe evenement niet!
DTEND;TZID=Local:20260509T210000
DTSTAMP:20260420T171455Z
DTSTART;TZID=Local:20260509T170000
LOCATION:Podium Islemunda
SEQUENCE:0
SUMMARY:NEXT GENZ
UID:1b1b06e8-a97f-48d3-a11b-0bb31a9dd42c
URL:https://www.uitagendarotterdam.nl/agenda/next-genz/
END:VEVENT
END:VCALENDAR
