BEGIN:VCALENDAR
PRODID:-//github.com/ical-org/ical.net//NONSGML ical.net 5.2.1//EN
VERSION:2.0
BEGIN:VTIMEZONE
TZID:Europe/Amsterdam
X-LIC-LOCATION:Europe/Amsterdam
END:VTIMEZONE
BEGIN:VEVENT
DESCRIPTION:Zondag 14 juni trekken we samen met Platform Wederopbouw Rotter
 dam het gebied rond de Coolhaven in voor een verrassende wandeltour.\n\n\n
DTEND;TZID=Local:20260614T133000
DTSTAMP:20260420T171250Z
DTSTART;TZID=Local:20260614T120000
LOCATION:Museum Rotterdam '40 - '45 NU
SEQUENCE:0
SUMMARY:Beestachtige wandeltour door de Coolhaven ism Platform Wederopbouw 
 Rotterdam
UID:a2aff9eb-c263-4f34-8915-256bc1247025
URL:https://www.uitagendarotterdam.nl/agenda/beestachtige-wandeltour-door-d
 e-coolhaven-ism-platform-wederopbouw-rotterdam-1/
END:VEVENT
END:VCALENDAR
